BEGIN:VCALENDAR
VERSION:2.0
PRODID:-//NU Kitchen - ECPv5.16.4//NONSGML v1.0//EN
CALSCALE:GREGORIAN
METHOD:PUBLISH
X-WR-CALNAME:NU Kitchen
X-ORIGINAL-URL:https://www.thenukitchen.com
X-WR-CALDESC:Events for NU Kitchen
BEGIN:VTIMEZONE
TZID:America/New_York
BEGIN:DAYLIGHT
TZOFFSETFROM:-0500
TZOFFSETTO:-0400
TZNAME:EDT
DTSTART:20130310T070000
END:DAYLIGHT
BEGIN:STANDARD
TZOFFSETFROM:-0400
TZOFFSETTO:-0500
TZNAME:EST
DTSTART:20131103T060000
END:STANDARD
END:VTIMEZONE
BEGIN:VEVENT
DTSTART;TZID=America/New_York:20130527T180000
DTEND;TZID=America/New_York:20130527T200000
DTSTAMP:20260422T130635
CREATED:20130412T181158Z
LAST-MODIFIED:20130412T181158Z
UID:455-1369677600-1369684800@www.thenukitchen.com
SUMMARY:Tom Smith - Nashville-based fingerstyle-guitarist and songwriter
DESCRIPTION:Tom Smith\, a Nashville-based fingerstyle-guitarist and\nsongwriter. Acclaimed by music reviewers and critics\, Tom creates a\nvery unique atmosphere during his performances\, showcasing his poetic\nlyrics and skillful guitar playing. \nSmith’s music and performances have received much critical acclaim:\na typical Tom Smith show can feature deft\, rapid fingerpicked guitar\,\nheartfelt and meaningful lyrics\, spoken word\, and creative musical\ninsights. With decades of experience\, he’s a performer at ease on both\nlarge stages and during intimate house concerts. \nhttp://tomsmithguitarist.com/?page_id=187
URL:https://www.thenukitchen.com/event/tom-smith-nashville-based-fingerstyle-guitarist-and-songwriter/
LOCATION:NU Kitchen – Worcester\, 335 Chandler Street\, Worcester\, MA\, 01602\, United States
CATEGORIES:Entertainment
END:VEVENT
END:VCALENDAR