BEGIN:VCALENDAR
VERSION:2.0
PRODID:-//NU Kitchen - ECPv5.16.4//NONSGML v1.0//EN
CALSCALE:GREGORIAN
METHOD:PUBLISH
X-WR-CALNAME:NU Kitchen
X-ORIGINAL-URL:https://www.thenukitchen.com
X-WR-CALDESC:Events for NU Kitchen
BEGIN:VTIMEZONE
TZID:America/New_York
BEGIN:DAYLIGHT
TZOFFSETFROM:-0500
TZOFFSETTO:-0400
TZNAME:EDT
DTSTART:20130310T070000
END:DAYLIGHT
BEGIN:STANDARD
TZOFFSETFROM:-0400
TZOFFSETTO:-0500
TZNAME:EST
DTSTART:20131103T060000
END:STANDARD
END:VTIMEZONE
BEGIN:VEVENT
DTSTART;TZID=America/New_York:20130720T173000
DTEND;TZID=America/New_York:20130720T200000
DTSTAMP:20260421T124314
CREATED:20130715T201106Z
LAST-MODIFIED:20130715T201106Z
UID:577-1374341400-1374350400@www.thenukitchen.com
SUMMARY:SolRac - Live Music
DESCRIPTION:SolRac is a trio consisting of Christian Tremblay (piano)\, Stephen Kerr (bass)\, and Lucas Apostoleris (drums). Though SolRac began rehearsing and performing steadily in the summer of 2012\, its members have been playing together in various configurations since 2006. Rooted in the jazz paradigm\, SolRac is heavily influenced by funk\, hip-hop\, and pop music \n 
URL:https://www.thenukitchen.com/event/solrac-live-music/
LOCATION:NU Kitchen – Worcester\, 335 Chandler Street\, Worcester\, MA\, 01602\, United States
END:VEVENT
END:VCALENDAR