BEGIN:VCALENDAR
VERSION:2.0
PRODID:-//NU Kitchen - ECPv5.16.4//NONSGML v1.0//EN
CALSCALE:GREGORIAN
METHOD:PUBLISH
X-WR-CALNAME:NU Kitchen
X-ORIGINAL-URL:https://www.thenukitchen.com
X-WR-CALDESC:Events for NU Kitchen
BEGIN:VTIMEZONE
TZID:America/New_York
BEGIN:DAYLIGHT
TZOFFSETFROM:-0500
TZOFFSETTO:-0400
TZNAME:EDT
DTSTART:20130310T070000
END:DAYLIGHT
BEGIN:STANDARD
TZOFFSETFROM:-0400
TZOFFSETTO:-0500
TZNAME:EST
DTSTART:20131103T060000
END:STANDARD
END:VTIMEZONE
BEGIN:VEVENT
DTSTART;TZID=America/New_York:20130715T180000
DTEND;TZID=America/New_York:20130715T200000
DTSTAMP:20260421T142119
CREATED:20130708T153602Z
LAST-MODIFIED:20130708T153602Z
UID:569-1373911200-1373918400@www.thenukitchen.com
SUMMARY:Nova presents: Science Café Woo on 'Fight or Flight: How do we learn to be afraid?'
DESCRIPTION:Guest speaker: Justin Golub\, from Massachusetts College of Liberal Arts. \nSummary: How do you react in dangerous situations? All animals\, including humans\, gather information from their environment to avoid danger\, find food and search for mates. Dr. Golub will talk about his research using fish as a model to study how animals learn to respond to dangerous stimuli from an early age and how that affects their evolution. \nDate: July 15th\nTime: 6pm\nNuCafe
URL:https://www.thenukitchen.com/event/nova-presents-science-cafe-woo-on-fight-or-flight-how-do-we-learn-to-be-afraid/
LOCATION:NU Kitchen – Worcester\, 335 Chandler Street\, Worcester\, MA\, 01602\, United States
END:VEVENT
END:VCALENDAR