BEGIN:VCALENDAR
VERSION:2.0
PRODID:-//NU Kitchen - ECPv5.16.4//NONSGML v1.0//EN
CALSCALE:GREGORIAN
METHOD:PUBLISH
X-WR-CALNAME:NU Kitchen
X-ORIGINAL-URL:https://www.thenukitchen.com
X-WR-CALDESC:Events for NU Kitchen
BEGIN:VTIMEZONE
TZID:America/New_York
BEGIN:DAYLIGHT
TZOFFSETFROM:-0500
TZOFFSETTO:-0400
TZNAME:EDT
DTSTART:20160313T070000
END:DAYLIGHT
BEGIN:STANDARD
TZOFFSETFROM:-0400
TZOFFSETTO:-0500
TZNAME:EST
DTSTART:20161106T060000
END:STANDARD
END:VTIMEZONE
BEGIN:VEVENT
DTSTART;TZID=America/New_York:20160120T183000
DTEND;TZID=America/New_York:20160120T203000
DTSTAMP:20260423T121855
CREATED:20151221T192225Z
LAST-MODIFIED:20151221T192225Z
UID:2040-1453314600-1453321800@www.thenukitchen.com
SUMMARY:Live Music - The Too Tight Jug Band
DESCRIPTION:The Too Tight Jug Band performs songs at the roots of American music\, specifically jug band music from Louisville and especially Memphis\, all with a strong blues influence. This is good-time music which is just plain fun.\n\nThe band has 4 members: Bob Swift (vocals\, harmonica\, and spoons)\, John Scott (vocals\, guitar\, and banjo)\, Lauren Monroe (vocals)\, and Richard Haller (vocals\, guitar\, kazoo\, and jug).\n 
URL:https://www.thenukitchen.com/event/live-music-the-too-tight-jug-band/
LOCATION:NU Kitchen – Worcester\, 335 Chandler Street\, Worcester\, MA\, 01602\, United States
END:VEVENT
END:VCALENDAR