BEGIN:VCALENDAR
VERSION:2.0
PRODID:-//NU Kitchen - ECPv5.16.4//NONSGML v1.0//EN
CALSCALE:GREGORIAN
METHOD:PUBLISH
X-WR-CALNAME:NU Kitchen
X-ORIGINAL-URL:https://www.thenukitchen.com
X-WR-CALDESC:Events for NU Kitchen
BEGIN:VTIMEZONE
TZID:America/New_York
BEGIN:DAYLIGHT
TZOFFSETFROM:-0500
TZOFFSETTO:-0400
TZNAME:EDT
DTSTART:20160313T070000
END:DAYLIGHT
BEGIN:STANDARD
TZOFFSETFROM:-0400
TZOFFSETTO:-0500
TZNAME:EST
DTSTART:20161106T060000
END:STANDARD
END:VTIMEZONE
BEGIN:VEVENT
DTSTART;TZID=America/New_York:20160123T140000
DTEND;TZID=America/New_York:20160123T170000
DTSTAMP:20260423T152312
CREATED:20160103T220542Z
LAST-MODIFIED:20160103T220542Z
UID:2063-1453557600-1453568400@www.thenukitchen.com
SUMMARY:Doherty High Food Drive Concert
DESCRIPTION:Doherty High Food Drive Concert – acoustic music by DMHS teachers and students. All canned goods and money donated goes directly to helping the hungry in Worcester!
URL:https://www.thenukitchen.com/event/doherty-high-food-drive-concert/
LOCATION:NU Kitchen – Worcester\, 335 Chandler Street\, Worcester\, MA\, 01602\, United States
END:VEVENT
END:VCALENDAR