BEGIN:VCALENDAR
VERSION:2.0
PRODID:-//NU Kitchen - ECPv5.16.4//NONSGML v1.0//EN
CALSCALE:GREGORIAN
METHOD:PUBLISH
X-WR-CALNAME:NU Kitchen
X-ORIGINAL-URL:https://www.thenukitchen.com
X-WR-CALDESC:Events for NU Kitchen
BEGIN:VTIMEZONE
TZID:America/New_York
BEGIN:DAYLIGHT
TZOFFSETFROM:-0500
TZOFFSETTO:-0400
TZNAME:EDT
DTSTART:20130310T070000
END:DAYLIGHT
BEGIN:STANDARD
TZOFFSETFROM:-0400
TZOFFSETTO:-0500
TZNAME:EST
DTSTART:20131103T060000
END:STANDARD
END:VTIMEZONE
BEGIN:VEVENT
DTSTART;TZID=America/New_York:20130511T190000
DTEND;TZID=America/New_York:20130511T210000
DTSTAMP:20260422T191436
CREATED:20130415T152631Z
LAST-MODIFIED:20130415T152631Z
UID:462-1368298800-1368306000@www.thenukitchen.com
SUMMARY:Back In Blues - A Blues Duo
DESCRIPTION:A unique blues duo utilizing handcrafted digital “backing” tracks combined with live guitar\, harmonica and vocals that fill the room with a full band sound.  Featuring Chahlee on guitar and Big Bruce on harmonica. \nBooking and info 508-254-2313 \nbrucedblues12@gmail.com
URL:https://www.thenukitchen.com/event/back-in-blues-a-blues-duo/
LOCATION:NU Kitchen – Worcester\, 335 Chandler Street\, Worcester\, MA\, 01602\, United States
CATEGORIES:Entertainment
END:VEVENT
END:VCALENDAR